BEGIN:VCALENDAR
VERSION:2.0
PRODID:-//tandcschool.org//NONSGML kigkonsult.se iCalcreator 2.30.10//
CALSCALE:GREGORIAN
METHOD:PUBLISH
UID:f0602281-b2d9-4d45-a9c1-016288369eb8
X-WR-CALDESC:
X-WR-RELCALID:c9b8d9c57dd78bd9f355e5a254a9cc15
X-WR-TIMEZONE:America/Chicago
BEGIN:VTIMEZONE
TZID:America/Chicago
BEGIN:STANDARD
TZNAME:CST
DTSTART:20231105T020000
TZOFFSETFROM:-0500
TZOFFSETTO:-0600
RDATE:20241103T020000
END:STANDARD
BEGIN:DAYLIGHT
TZNAME:CDT
DTSTART:20240310T020000
TZOFFSETFROM:-0600
TZOFFSETTO:-0500
RDATE:20250309T020000
END:DAYLIGHT
END:VTIMEZONE
BEGIN:VEVENT
UID:ff4170f0-9256-4d22-9e1a-baa6718cfcca
DTSTAMP:20260424T035739Z
DESCRIPTION:
DTSTART;TZID=America/Chicago:20240325T150000
DTEND;TZID=America/Chicago:20240325T154500
LOCATION:
SUMMARY:Chess Club
END:VEVENT
END:VCALENDAR
