BEGIN:VCALENDAR
VERSION:2.0
PRODID:-//tandcschool.org//NONSGML kigkonsult.se iCalcreator 2.30.10//
CALSCALE:GREGORIAN
METHOD:PUBLISH
UID:a3f6c48f-9dd9-475f-b9d4-33b0e959eee1
X-WR-CALDESC:
X-WR-RELCALID:bea083adf61e4a1b00c20125949002c0
X-WR-TIMEZONE:America/Chicago
BEGIN:VTIMEZONE
TZID:America/Chicago
BEGIN:STANDARD
TZNAME:CST
DTSTART:20231105T020000
TZOFFSETFROM:-0500
TZOFFSETTO:-0600
RDATE:20241103T020000
END:STANDARD
BEGIN:DAYLIGHT
TZNAME:CDT
DTSTART:20240310T020000
TZOFFSETFROM:-0600
TZOFFSETTO:-0500
RDATE:20250309T020000
END:DAYLIGHT
END:VTIMEZONE
BEGIN:VEVENT
UID:366d4382-8df8-4a11-9d68-c4a3d4b8fed2
DTSTAMP:20260424T040513Z
DESCRIPTION:
DTSTART;TZID=America/Chicago:20240325T150000
DTEND;TZID=America/Chicago:20240325T154500
LOCATION:
SUMMARY:Bible Club
END:VEVENT
END:VCALENDAR
