BEGIN:VCALENDAR
VERSION:2.0
PRODID:-//tandcschool.org//NONSGML kigkonsult.se iCalcreator 2.30.10//
CALSCALE:GREGORIAN
METHOD:PUBLISH
UID:7f05e0e6-f27c-47a1-8934-21bf76e5bd3a
X-WR-CALDESC:No School
X-WR-RELCALID:43fae82326e89d7f192842544d2ee972
X-WR-TIMEZONE:America/Chicago
BEGIN:VTIMEZONE
TZID:America/Chicago
BEGIN:STANDARD
TZNAME:CST
DTSTART:20231105T020000
TZOFFSETFROM:-0500
TZOFFSETTO:-0600
RDATE:20241103T020000
END:STANDARD
BEGIN:DAYLIGHT
TZNAME:CDT
DTSTART:20240310T020000
TZOFFSETFROM:-0600
TZOFFSETTO:-0500
RDATE:20250309T020000
END:DAYLIGHT
END:VTIMEZONE
BEGIN:VEVENT
UID:e4fe9431-0c86-4f89-81a9-d9883dfe39e9
DTSTAMP:20260424T034237Z
DESCRIPTION:No School
DTSTART;TZID=America/Chicago:20240318T000000
DTEND;TZID=America/Chicago:20240322T235900
LOCATION:
SUMMARY:Spring Break
END:VEVENT
END:VCALENDAR
