BEGIN:VCALENDAR
VERSION:2.0
PRODID:-//tandcschool.org//NONSGML kigkonsult.se iCalcreator 2.30.10//
CALSCALE:GREGORIAN
METHOD:PUBLISH
UID:4acf0176-41a5-4122-8dee-0505198e48ee
X-WR-CALDESC:Lower School 9:30-11:00\nMiddle School 2:00-3:00 \n
X-WR-RELCALID:bb2dda490c184b7c39813a5eecec0a86
X-WR-TIMEZONE:America/Chicago
BEGIN:VTIMEZONE
TZID:America/Chicago
BEGIN:STANDARD
TZNAME:CST
DTSTART:20231105T020000
TZOFFSETFROM:-0500
TZOFFSETTO:-0600
RDATE:20241103T020000
END:STANDARD
BEGIN:DAYLIGHT
TZNAME:CDT
DTSTART:20240310T020000
TZOFFSETFROM:-0600
TZOFFSETTO:-0500
RDATE:20250309T020000
END:DAYLIGHT
END:VTIMEZONE
BEGIN:VEVENT
UID:ee767962-d020-488c-9da8-23e88d3e0d13
DTSTAMP:20260424T035443Z
DESCRIPTION:Lower School 9:30-11:00\nMiddle School 2:00-3:00 \n
DTSTART;TZID=America/Chicago:20240315T050000
DTEND;TZID=America/Chicago:20240315T050001
LOCATION:
SUMMARY:Kid's Heart Challenge
END:VEVENT
END:VCALENDAR
