BEGIN:VCALENDAR
VERSION:2.0
PRODID:-//tandcschool.org//NONSGML kigkonsult.se iCalcreator 2.30.10//
CALSCALE:GREGORIAN
METHOD:PUBLISH
UID:372f1224-0339-4fd1-bc56-c63da0307de7
X-WR-CALDESC:
X-WR-RELCALID:2c62747c6e397e37ec8dcde607062899
X-WR-TIMEZONE:America/Chicago
BEGIN:VTIMEZONE
TZID:America/Chicago
BEGIN:STANDARD
TZNAME:CST
DTSTART:20231105T020000
TZOFFSETFROM:-0500
TZOFFSETTO:-0600
RDATE:20241103T020000
END:STANDARD
BEGIN:DAYLIGHT
TZNAME:CDT
DTSTART:20240310T020000
TZOFFSETFROM:-0600
TZOFFSETTO:-0500
RDATE:20250309T020000
END:DAYLIGHT
END:VTIMEZONE
BEGIN:VEVENT
UID:01bd94a4-d773-4ab3-9406-3331930cc717
DTSTAMP:20260424T040031Z
DESCRIPTION:
DTSTART;TZID=America/Chicago:20240313T152000
DTEND;TZID=America/Chicago:20240313T160000
LOCATION:
SUMMARY:Production Club- Wizard
END:VEVENT
END:VCALENDAR
