BEGIN:VCALENDAR
VERSION:2.0
PRODID:-//tandcschool.org//NONSGML kigkonsult.se iCalcreator 2.30.10//
CALSCALE:GREGORIAN
METHOD:PUBLISH
UID:addd3917-2493-4ffc-81e1-5b632d59578c
X-WR-CALDESC:
X-WR-RELCALID:2d78323729841886de5bcbf805288e70
X-WR-TIMEZONE:America/Chicago
BEGIN:VTIMEZONE
TZID:America/Chicago
BEGIN:STANDARD
TZNAME:CST
DTSTART:20231105T020000
TZOFFSETFROM:-0500
TZOFFSETTO:-0600
RDATE:20241103T020000
END:STANDARD
BEGIN:DAYLIGHT
TZNAME:CDT
DTSTART:20240310T020000
TZOFFSETFROM:-0600
TZOFFSETTO:-0500
RDATE:20250309T020000
END:DAYLIGHT
END:VTIMEZONE
BEGIN:VEVENT
UID:01ea817c-9fe6-46f1-990a-4ce937d71ed3
DTSTAMP:20260424T035836Z
DESCRIPTION:
DTSTART;TZID=America/Chicago:20240313T000000
DTEND;TZID=America/Chicago:20240313T235900
LOCATION:
SUMMARY:End of 3rd Quarter
END:VEVENT
END:VCALENDAR
