BEGIN:VCALENDAR
VERSION:2.0
PRODID:-//tandcschool.org//NONSGML kigkonsult.se iCalcreator 2.30.10//
CALSCALE:GREGORIAN
METHOD:PUBLISH
UID:be4de592-4595-46fb-82ca-d0dbbe6534ee
X-WR-CALDESC:
X-WR-RELCALID:27e86bbc909ca27c2f9b2dfbfe6492b5
X-WR-TIMEZONE:America/Chicago
BEGIN:VTIMEZONE
TZID:America/Chicago
BEGIN:STANDARD
TZNAME:CST
DTSTART:20231105T020000
TZOFFSETFROM:-0500
TZOFFSETTO:-0600
RDATE:20241103T020000
END:STANDARD
BEGIN:DAYLIGHT
TZNAME:CDT
DTSTART:20240310T020000
TZOFFSETFROM:-0600
TZOFFSETTO:-0500
RDATE:20250309T020000
END:DAYLIGHT
END:VTIMEZONE
BEGIN:VEVENT
UID:82d5b1d5-30d2-427e-adb1-5c97f09622f2
DTSTAMP:20260424T035857Z
DESCRIPTION:
DTSTART;TZID=America/Chicago:20240313T153000
DTEND;TZID=America/Chicago:20240313T164500
LOCATION:
SUMMARY:Cooking Class B
END:VEVENT
END:VCALENDAR
