BEGIN:VCALENDAR
VERSION:2.0
PRODID:-//tandcschool.org//NONSGML kigkonsult.se iCalcreator 2.30.10//
CALSCALE:GREGORIAN
METHOD:PUBLISH
UID:6a064e5b-3d6c-44d0-88a0-73bd33120642
X-WR-CALDESC:
X-WR-RELCALID:f3efedb506de3faca7c594326f674ca5
X-WR-TIMEZONE:America/Chicago
BEGIN:VTIMEZONE
TZID:America/Chicago
BEGIN:STANDARD
TZNAME:CST
DTSTART:20231105T020000
TZOFFSETFROM:-0500
TZOFFSETTO:-0600
RDATE:20241103T020000
END:STANDARD
BEGIN:DAYLIGHT
TZNAME:CDT
DTSTART:20240310T020000
TZOFFSETFROM:-0600
TZOFFSETTO:-0500
RDATE:20250309T020000
END:DAYLIGHT
END:VTIMEZONE
BEGIN:VEVENT
UID:f453a98c-8058-4192-a56d-b9fb5ba1dd2b
DTSTAMP:20260424T040440Z
DESCRIPTION:
DTSTART;TZID=America/Chicago:20240313T150000
DTEND;TZID=America/Chicago:20240313T154500
LOCATION:
SUMMARY:MS Art Club
END:VEVENT
END:VCALENDAR
