BEGIN:VCALENDAR
VERSION:2.0
PRODID:-//tandcschool.org//NONSGML kigkonsult.se iCalcreator 2.30.10//
CALSCALE:GREGORIAN
METHOD:PUBLISH
UID:1d9a6a3c-615d-401b-9b10-1989cc88a971
X-WR-CALDESC:
X-WR-RELCALID:74b2c1e79f26884eebb537d449cfc411
X-WR-TIMEZONE:America/Chicago
BEGIN:VTIMEZONE
TZID:America/Chicago
BEGIN:STANDARD
TZNAME:CST
DTSTART:20231105T020000
TZOFFSETFROM:-0500
TZOFFSETTO:-0600
RDATE:20241103T020000
END:STANDARD
BEGIN:DAYLIGHT
TZNAME:CDT
DTSTART:20240310T020000
TZOFFSETFROM:-0600
TZOFFSETTO:-0500
RDATE:20250309T020000
END:DAYLIGHT
END:VTIMEZONE
BEGIN:VEVENT
UID:e9bb306a-83c7-4e67-bbf1-92ce8b73e38c
DTSTAMP:20260424T040617Z
DESCRIPTION:
DTSTART;TZID=America/Chicago:20240312T150000
DTEND;TZID=America/Chicago:20240312T154500
LOCATION:
SUMMARY:HS Running Club
END:VEVENT
END:VCALENDAR
