BEGIN:VCALENDAR
VERSION:2.0
PRODID:-//tandcschool.org//NONSGML kigkonsult.se iCalcreator 2.30.10//
CALSCALE:GREGORIAN
METHOD:PUBLISH
UID:32f6aab0-f836-4aa4-9cba-3b1a2fabe475
X-WR-CALDESC:
X-WR-RELCALID:a656e7d64a901b2cab5aa151a812b89e
X-WR-TIMEZONE:America/Chicago
BEGIN:VTIMEZONE
TZID:America/Chicago
BEGIN:STANDARD
TZNAME:CST
DTSTART:20231105T020000
TZOFFSETFROM:-0500
TZOFFSETTO:-0600
RDATE:20241103T020000
END:STANDARD
BEGIN:DAYLIGHT
TZNAME:CDT
DTSTART:20230312T020000
TZOFFSETFROM:-0600
TZOFFSETTO:-0500
RDATE:20240310T020000
RDATE:20250309T020000
END:DAYLIGHT
END:VTIMEZONE
BEGIN:VEVENT
UID:8bda0456-e0c1-47cd-9dd8-12ec328029ac
DTSTAMP:20260424T040450Z
DESCRIPTION:
DTSTART;TZID=America/Chicago:20240311T173000
DTEND;TZID=America/Chicago:20240311T183000
LOCATION:
SUMMARY:Parent Zoom Meeting
END:VEVENT
END:VCALENDAR
