BEGIN:VCALENDAR
VERSION:2.0
PRODID:-//tandcschool.org//NONSGML kigkonsult.se iCalcreator 2.30.10//
CALSCALE:GREGORIAN
METHOD:PUBLISH
UID:b43b9b92-4e10-4fd9-ba7d-85907d2ba93c
X-WR-CALDESC:
X-WR-RELCALID:4350230d361be305ef80da5e6711051c
X-WR-TIMEZONE:America/Chicago
BEGIN:VTIMEZONE
TZID:America/Chicago
BEGIN:STANDARD
TZNAME:CST
DTSTART:20231105T020000
TZOFFSETFROM:-0500
TZOFFSETTO:-0600
RDATE:20241103T020000
END:STANDARD
BEGIN:DAYLIGHT
TZNAME:CDT
DTSTART:20230312T020000
TZOFFSETFROM:-0600
TZOFFSETTO:-0500
RDATE:20240310T020000
RDATE:20250309T020000
END:DAYLIGHT
END:VTIMEZONE
BEGIN:VEVENT
UID:bf6a16df-55de-4678-8113-c3786c8c4853
DTSTAMP:20260424T035724Z
DESCRIPTION:
DTSTART;TZID=America/Chicago:20240311T152000
DTEND;TZID=America/Chicago:20240311T163000
LOCATION:
SUMMARY:Oz Rehearsal
END:VEVENT
END:VCALENDAR
