BEGIN:VCALENDAR
VERSION:2.0
PRODID:-//tandcschool.org//NONSGML kigkonsult.se iCalcreator 2.30.10//
CALSCALE:GREGORIAN
METHOD:PUBLISH
UID:f8747264-a279-4b99-bb72-c6a3e0a46406
X-WR-CALDESC:
X-WR-RELCALID:315ce4e13021a23b63d036d562d71280
X-WR-TIMEZONE:America/Chicago
BEGIN:VTIMEZONE
TZID:America/Chicago
BEGIN:STANDARD
TZNAME:CST
DTSTART:20231105T020000
TZOFFSETFROM:-0500
TZOFFSETTO:-0600
RDATE:20241103T020000
END:STANDARD
BEGIN:DAYLIGHT
TZNAME:CDT
DTSTART:20230312T020000
TZOFFSETFROM:-0600
TZOFFSETTO:-0500
RDATE:20240310T020000
RDATE:20250309T020000
END:DAYLIGHT
END:VTIMEZONE
BEGIN:VEVENT
UID:662c3b7f-088e-43e1-b929-94e12c1b28a9
DTSTAMP:20260424T035857Z
DESCRIPTION:
DTSTART;TZID=America/Chicago:20240311T153000
DTEND;TZID=America/Chicago:20240311T164500
LOCATION:
SUMMARY:Cooking Class A
END:VEVENT
END:VCALENDAR
