BEGIN:VCALENDAR
VERSION:2.0
PRODID:-//tandcschool.org//NONSGML kigkonsult.se iCalcreator 2.30.10//
CALSCALE:GREGORIAN
METHOD:PUBLISH
UID:6d0ce9d3-490a-4a39-9c83-a7c0d6f1eec2
X-WR-CALDESC:
X-WR-RELCALID:fa75def116f8151644c47ff1d8cb8bad
X-WR-TIMEZONE:America/Chicago
BEGIN:VTIMEZONE
TZID:America/Chicago
BEGIN:STANDARD
TZNAME:CST
DTSTART:20231105T020000
TZOFFSETFROM:-0500
TZOFFSETTO:-0600
RDATE:20241103T020000
END:STANDARD
BEGIN:DAYLIGHT
TZNAME:CDT
DTSTART:20230312T020000
TZOFFSETFROM:-0600
TZOFFSETTO:-0500
RDATE:20240310T020000
RDATE:20250309T020000
END:DAYLIGHT
END:VTIMEZONE
BEGIN:VEVENT
UID:22dfe412-1904-4271-a3ca-ff4ba8825bea
DTSTAMP:20260424T035739Z
DESCRIPTION:
DTSTART;TZID=America/Chicago:20240311T150000
DTEND;TZID=America/Chicago:20240311T154500
LOCATION:
SUMMARY:Chess
END:VEVENT
END:VCALENDAR
