BEGIN:VCALENDAR
VERSION:2.0
PRODID:-//tandcschool.org//NONSGML kigkonsult.se iCalcreator 2.30.10//
CALSCALE:GREGORIAN
METHOD:PUBLISH
UID:1e30d376-85f7-4f11-b9ea-8b9fbf628cd8
X-WR-CALDESC:
X-WR-RELCALID:cb7bccbe0c154689582a63c9444f105a
X-WR-TIMEZONE:America/Chicago
BEGIN:VTIMEZONE
TZID:America/Chicago
BEGIN:STANDARD
TZNAME:CST
DTSTART:20231105T020000
TZOFFSETFROM:-0500
TZOFFSETTO:-0600
RDATE:20241103T020000
END:STANDARD
BEGIN:DAYLIGHT
TZNAME:CDT
DTSTART:20230312T020000
TZOFFSETFROM:-0600
TZOFFSETTO:-0500
RDATE:20240310T020000
RDATE:20250309T020000
END:DAYLIGHT
END:VTIMEZONE
BEGIN:VEVENT
UID:4ab7cfb2-ac28-4b42-8e1c-c683cbfd22d0
DTSTAMP:20260424T040018Z
DESCRIPTION:
DTSTART;TZID=America/Chicago:20240311T150000
DTEND;TZID=America/Chicago:20240311T160000
LOCATION:
SUMMARY:Cheer
END:VEVENT
END:VCALENDAR
