BEGIN:VCALENDAR
VERSION:2.0
PRODID:-//tandcschool.org//NONSGML kigkonsult.se iCalcreator 2.30.10//
CALSCALE:GREGORIAN
METHOD:PUBLISH
UID:6550a33a-be7a-404e-a25a-b57d14bec4cc
X-WR-CALDESC:
X-WR-RELCALID:5be4ce5da4d6073a6796597c67a01fe6
X-WR-TIMEZONE:America/Chicago
BEGIN:VTIMEZONE
TZID:America/Chicago
BEGIN:STANDARD
TZNAME:CST
DTSTART:20231105T020000
TZOFFSETFROM:-0500
TZOFFSETTO:-0600
RDATE:20241103T020000
END:STANDARD
BEGIN:DAYLIGHT
TZNAME:CDT
DTSTART:20230312T020000
TZOFFSETFROM:-0600
TZOFFSETTO:-0500
RDATE:20240310T020000
RDATE:20250309T020000
END:DAYLIGHT
END:VTIMEZONE
BEGIN:VEVENT
UID:9400a16a-6185-4023-b7f4-c84d47c84718
DTSTAMP:20260424T040328Z
DESCRIPTION:
DTSTART;TZID=America/Chicago:20240308T050000
DTEND;TZID=America/Chicago:20240308T050001
LOCATION:
SUMMARY:Free Dress Day
END:VEVENT
END:VCALENDAR
