BEGIN:VCALENDAR
VERSION:2.0
PRODID:-//tandcschool.org//NONSGML kigkonsult.se iCalcreator 2.30.10//
CALSCALE:GREGORIAN
METHOD:PUBLISH
UID:eaf5c58d-4c36-464e-8e6f-c178869495c0
X-WR-CALDESC:
X-WR-RELCALID:9a1324f2596f06f4509310a1d75abb03
X-WR-TIMEZONE:America/Chicago
BEGIN:VTIMEZONE
TZID:America/Chicago
BEGIN:STANDARD
TZNAME:CST
DTSTART:20231105T020000
TZOFFSETFROM:-0500
TZOFFSETTO:-0600
RDATE:20241103T020000
END:STANDARD
BEGIN:DAYLIGHT
TZNAME:CDT
DTSTART:20230312T020000
TZOFFSETFROM:-0600
TZOFFSETTO:-0500
RDATE:20240310T020000
RDATE:20250309T020000
END:DAYLIGHT
END:VTIMEZONE
BEGIN:VEVENT
UID:d9d6c276-3294-4e05-8564-568ad2c5584c
DTSTAMP:20260424T034250Z
DESCRIPTION:
DTSTART;TZID=America/Chicago:20240308T150000
DTEND;TZID=America/Chicago:20240308T154500
LOCATION:
SUMMARY:E-Gaming Group C
END:VEVENT
END:VCALENDAR
