BEGIN:VCALENDAR
VERSION:2.0
PRODID:-//tandcschool.org//NONSGML kigkonsult.se iCalcreator 2.30.10//
CALSCALE:GREGORIAN
METHOD:PUBLISH
UID:1ae96e28-8e1b-44ab-83c9-44673f237033
X-WR-CALDESC:
X-WR-RELCALID:a8f0899bbae6727f2bd0f26e2d6ceaea
X-WR-TIMEZONE:America/Chicago
BEGIN:VTIMEZONE
TZID:America/Chicago
BEGIN:STANDARD
TZNAME:CST
DTSTART:20231105T020000
TZOFFSETFROM:-0500
TZOFFSETTO:-0600
RDATE:20241103T020000
END:STANDARD
BEGIN:DAYLIGHT
TZNAME:CDT
DTSTART:20230312T020000
TZOFFSETFROM:-0600
TZOFFSETTO:-0500
RDATE:20240310T020000
RDATE:20250309T020000
END:DAYLIGHT
END:VTIMEZONE
BEGIN:VEVENT
UID:ed7bb5ab-9b8a-4e98-b3a8-5cba1d7fdb28
DTSTAMP:20260424T040154Z
DESCRIPTION:
DTSTART;TZID=America/Chicago:20240307T151500
DTEND;TZID=America/Chicago:20240307T160000
LOCATION:
SUMMARY:Band
END:VEVENT
END:VCALENDAR
