BEGIN:VCALENDAR
VERSION:2.0
PRODID:-//tandcschool.org//NONSGML kigkonsult.se iCalcreator 2.30.10//
CALSCALE:GREGORIAN
METHOD:PUBLISH
UID:cde61009-7b60-4320-9e90-1cf53a8fa7fb
X-WR-CALDESC:
X-WR-RELCALID:8998623dca3d217cd8c4fc9375cef056
X-WR-TIMEZONE:America/Chicago
BEGIN:VTIMEZONE
TZID:America/Chicago
BEGIN:STANDARD
TZNAME:CST
DTSTART:20231105T020000
TZOFFSETFROM:-0500
TZOFFSETTO:-0600
RDATE:20241103T020000
END:STANDARD
BEGIN:DAYLIGHT
TZNAME:CDT
DTSTART:20230312T020000
TZOFFSETFROM:-0600
TZOFFSETTO:-0500
RDATE:20240310T020000
RDATE:20250309T020000
END:DAYLIGHT
END:VTIMEZONE
BEGIN:VEVENT
UID:353d944b-f005-4674-be11-fcf3f7ed06a9
DTSTAMP:20260424T040617Z
DESCRIPTION:
DTSTART;TZID=America/Chicago:20240307T150000
DTEND;TZID=America/Chicago:20240307T160000
LOCATION:
SUMMARY:Crochet Club
END:VEVENT
END:VCALENDAR
