BEGIN:VCALENDAR
VERSION:2.0
PRODID:-//tandcschool.org//NONSGML kigkonsult.se iCalcreator 2.30.10//
CALSCALE:GREGORIAN
METHOD:PUBLISH
UID:a229a789-e28d-4d2d-abbc-c65b154602d1
X-WR-CALDESC:
X-WR-RELCALID:ea9858a30d8efc5857d9f70d9e03f152
X-WR-TIMEZONE:America/Chicago
BEGIN:VTIMEZONE
TZID:America/Chicago
BEGIN:STANDARD
TZNAME:CST
DTSTART:20231105T020000
TZOFFSETFROM:-0500
TZOFFSETTO:-0600
RDATE:20241103T020000
END:STANDARD
BEGIN:DAYLIGHT
TZNAME:CDT
DTSTART:20230312T020000
TZOFFSETFROM:-0600
TZOFFSETTO:-0500
RDATE:20240310T020000
RDATE:20250309T020000
END:DAYLIGHT
END:VTIMEZONE
BEGIN:VEVENT
UID:9518fb96-b2b0-487e-968e-75e5d4025f08
DTSTAMP:20260424T035605Z
DESCRIPTION:
DTSTART;TZID=America/Chicago:20240306T152000
DTEND;TZID=America/Chicago:20240306T163000
LOCATION:
SUMMARY:Oz Rehearsal
END:VEVENT
END:VCALENDAR
