BEGIN:VCALENDAR
VERSION:2.0
PRODID:-//tandcschool.org//NONSGML kigkonsult.se iCalcreator 2.30.10//
CALSCALE:GREGORIAN
METHOD:PUBLISH
UID:72bae8c2-0bec-45f9-9242-25c75fd7e50a
X-WR-CALDESC:
X-WR-RELCALID:af9ff3049b299f7cf190eeca5e32c6f1
X-WR-TIMEZONE:America/Chicago
BEGIN:VTIMEZONE
TZID:America/Chicago
BEGIN:STANDARD
TZNAME:CST
DTSTART:20231105T020000
TZOFFSETFROM:-0500
TZOFFSETTO:-0600
RDATE:20241103T020000
END:STANDARD
BEGIN:DAYLIGHT
TZNAME:CDT
DTSTART:20230312T020000
TZOFFSETFROM:-0600
TZOFFSETTO:-0500
RDATE:20240310T020000
RDATE:20250309T020000
END:DAYLIGHT
END:VTIMEZONE
BEGIN:VEVENT
UID:37fd9af2-338c-4165-a492-4c750f1e6018
DTSTAMP:20260424T040148Z
DESCRIPTION:
DTSTART;TZID=America/Chicago:20240306T150000
DTEND;TZID=America/Chicago:20240306T154500
LOCATION:
SUMMARY:HS Art Club
END:VEVENT
END:VCALENDAR
