BEGIN:VCALENDAR
VERSION:2.0
PRODID:-//tandcschool.org//NONSGML kigkonsult.se iCalcreator 2.30.10//
CALSCALE:GREGORIAN
METHOD:PUBLISH
UID:bc38e825-2443-40fa-a0cf-85db65c19385
X-WR-CALDESC:
X-WR-RELCALID:8269aebea8c721725c65a0a8499dafd1
X-WR-TIMEZONE:America/Chicago
BEGIN:VTIMEZONE
TZID:America/Chicago
BEGIN:STANDARD
TZNAME:CST
DTSTART:20231105T020000
TZOFFSETFROM:-0500
TZOFFSETTO:-0600
RDATE:20241103T020000
END:STANDARD
BEGIN:DAYLIGHT
TZNAME:CDT
DTSTART:20230312T020000
TZOFFSETFROM:-0600
TZOFFSETTO:-0500
RDATE:20240310T020000
RDATE:20250309T020000
END:DAYLIGHT
END:VTIMEZONE
BEGIN:VEVENT
UID:27ab6925-f24e-4d7c-9043-db75921d49ab
DTSTAMP:20260424T034237Z
DESCRIPTION:
DTSTART;TZID=America/Chicago:20240306T153000
DTEND;TZID=America/Chicago:20240306T164500
LOCATION:
SUMMARY:Cooking Class B
END:VEVENT
END:VCALENDAR
