BEGIN:VCALENDAR
VERSION:2.0
PRODID:-//tandcschool.org//NONSGML kigkonsult.se iCalcreator 2.30.10//
CALSCALE:GREGORIAN
METHOD:PUBLISH
UID:cc79bf0a-f902-4088-9dcf-1b0dfd760f80
X-WR-CALDESC:
X-WR-RELCALID:825ff3a96314d9b53d46b34d41168b94
X-WR-TIMEZONE:America/Chicago
BEGIN:VTIMEZONE
TZID:America/Chicago
BEGIN:STANDARD
TZNAME:CST
DTSTART:20231105T020000
TZOFFSETFROM:-0500
TZOFFSETTO:-0600
RDATE:20241103T020000
END:STANDARD
BEGIN:DAYLIGHT
TZNAME:CDT
DTSTART:20230312T020000
TZOFFSETFROM:-0600
TZOFFSETTO:-0500
RDATE:20240310T020000
RDATE:20250309T020000
END:DAYLIGHT
END:VTIMEZONE
BEGIN:VEVENT
UID:e22d1cc8-e5a6-40ca-8bce-5f33bbbfee58
DTSTAMP:20260424T040328Z
DESCRIPTION:
DTSTART;TZID=America/Chicago:20240305T180000
DTEND;TZID=America/Chicago:20240305T190000
LOCATION:
SUMMARY:Parent Zoom Meeting
END:VEVENT
END:VCALENDAR
