BEGIN:VCALENDAR
VERSION:2.0
PRODID:-//tandcschool.org//NONSGML kigkonsult.se iCalcreator 2.30.10//
CALSCALE:GREGORIAN
METHOD:PUBLISH
UID:97be7ae7-1a1d-41ff-a078-670df6f8f700
X-WR-CALDESC:
X-WR-RELCALID:cfb80bdb07aff1c1ac90cf4c3c9348ba
X-WR-TIMEZONE:America/Chicago
BEGIN:VTIMEZONE
TZID:America/Chicago
BEGIN:STANDARD
TZNAME:CST
DTSTART:20231105T020000
TZOFFSETFROM:-0500
TZOFFSETTO:-0600
RDATE:20241103T020000
END:STANDARD
BEGIN:DAYLIGHT
TZNAME:CDT
DTSTART:20230312T020000
TZOFFSETFROM:-0600
TZOFFSETTO:-0500
RDATE:20240310T020000
RDATE:20250309T020000
END:DAYLIGHT
END:VTIMEZONE
BEGIN:VEVENT
UID:f27ab522-e4a0-46fc-ad32-14b1849859cd
DTSTAMP:20260424T040018Z
DESCRIPTION:
DTSTART;TZID=America/Chicago:20240305T150000
DTEND;TZID=America/Chicago:20240305T154500
LOCATION:
SUMMARY:MS Lego Club
END:VEVENT
END:VCALENDAR
