BEGIN:VCALENDAR
VERSION:2.0
PRODID:-//tandcschool.org//NONSGML kigkonsult.se iCalcreator 2.30.10//
CALSCALE:GREGORIAN
METHOD:PUBLISH
UID:47fe1ea6-55d9-4405-b5ab-46e1807216af
X-WR-CALDESC:
X-WR-RELCALID:9f5b398a19e0a159f0fe60f2bea6413f
X-WR-TIMEZONE:America/Chicago
BEGIN:VTIMEZONE
TZID:America/Chicago
BEGIN:STANDARD
TZNAME:CST
DTSTART:20231105T020000
TZOFFSETFROM:-0500
TZOFFSETTO:-0600
RDATE:20241103T020000
END:STANDARD
BEGIN:DAYLIGHT
TZNAME:CDT
DTSTART:20230312T020000
TZOFFSETFROM:-0600
TZOFFSETTO:-0500
RDATE:20240310T020000
RDATE:20250309T020000
END:DAYLIGHT
END:VTIMEZONE
BEGIN:VEVENT
UID:7adc6a19-d12d-47d2-bab6-f4c81c72e6f8
DTSTAMP:20260424T035959Z
DESCRIPTION:
DTSTART;TZID=America/Chicago:20240304T152000
DTEND;TZID=America/Chicago:20240304T160000
LOCATION:
SUMMARY:LS Art Club
END:VEVENT
END:VCALENDAR
