BEGIN:VCALENDAR
VERSION:2.0
PRODID:-//tandcschool.org//NONSGML kigkonsult.se iCalcreator 2.30.10//
CALSCALE:GREGORIAN
METHOD:PUBLISH
UID:139390ea-77f7-43f4-b016-f477db06f905
X-WR-CALDESC:
X-WR-RELCALID:6156b6fe4793619b16d5ad123d91c9e1
X-WR-TIMEZONE:America/Chicago
BEGIN:VTIMEZONE
TZID:America/Chicago
BEGIN:STANDARD
TZNAME:CST
DTSTART:20231105T020000
TZOFFSETFROM:-0500
TZOFFSETTO:-0600
RDATE:20241103T020000
END:STANDARD
BEGIN:DAYLIGHT
TZNAME:CDT
DTSTART:20230312T020000
TZOFFSETFROM:-0600
TZOFFSETTO:-0500
RDATE:20240310T020000
RDATE:20250309T020000
END:DAYLIGHT
END:VTIMEZONE
BEGIN:VEVENT
UID:833eb735-878e-417d-8c47-8cf4b9f4b898
DTSTAMP:20260424T035836Z
DESCRIPTION:
DTSTART;TZID=America/Chicago:20240304T150000
DTEND;TZID=America/Chicago:20240304T154500
LOCATION:
SUMMARY:Chess
END:VEVENT
END:VCALENDAR
