BEGIN:VCALENDAR
VERSION:2.0
PRODID:-//tandcschool.org//NONSGML kigkonsult.se iCalcreator 2.30.10//
CALSCALE:GREGORIAN
METHOD:PUBLISH
UID:60ddb445-6979-4b32-b950-34964922d821
X-WR-CALDESC:
X-WR-RELCALID:2b45057b091aaeae338b0b313785d861
X-WR-TIMEZONE:America/Chicago
BEGIN:VTIMEZONE
TZID:America/Chicago
BEGIN:STANDARD
TZNAME:CST
DTSTART:20231105T020000
TZOFFSETFROM:-0500
TZOFFSETTO:-0600
RDATE:20241103T020000
END:STANDARD
BEGIN:DAYLIGHT
TZNAME:CDT
DTSTART:20230312T020000
TZOFFSETFROM:-0600
TZOFFSETTO:-0500
RDATE:20240310T020000
RDATE:20250309T020000
END:DAYLIGHT
END:VTIMEZONE
BEGIN:VEVENT
UID:bd3fee74-78d5-41c2-9ccc-dfb30ce03486
DTSTAMP:20260424T040148Z
DESCRIPTION:
DTSTART;TZID=America/Chicago:20240304T150000
DTEND;TZID=America/Chicago:20240304T160000
LOCATION:
SUMMARY:Cheer
END:VEVENT
END:VCALENDAR
