BEGIN:VCALENDAR
VERSION:2.0
PRODID:-//tandcschool.org//NONSGML kigkonsult.se iCalcreator 2.30.10//
CALSCALE:GREGORIAN
METHOD:PUBLISH
UID:e63e55fb-f129-4c86-bae3-0c3cbb16e790
X-WR-CALDESC:
X-WR-RELCALID:9063386e05c1c99452d62c0ed6690221
X-WR-TIMEZONE:America/Chicago
BEGIN:VTIMEZONE
TZID:America/Chicago
BEGIN:STANDARD
TZNAME:CST
DTSTART:20231105T020000
TZOFFSETFROM:-0500
TZOFFSETTO:-0600
RDATE:20241103T020000
END:STANDARD
BEGIN:DAYLIGHT
TZNAME:CDT
DTSTART:20230312T020000
TZOFFSETFROM:-0600
TZOFFSETTO:-0500
RDATE:20240310T020000
RDATE:20250309T020000
END:DAYLIGHT
END:VTIMEZONE
BEGIN:VEVENT
UID:6fef3394-3805-4707-bea5-51d831212696
DTSTAMP:20260424T040159Z
DESCRIPTION:
DTSTART;TZID=America/Chicago:20240302T050000
DTEND;TZID=America/Chicago:20240306T050001
LOCATION:
SUMMARY:Read Across America
END:VEVENT
END:VCALENDAR
