BEGIN:VCALENDAR
VERSION:2.0
PRODID:-//tandcschool.org//NONSGML kigkonsult.se iCalcreator 2.30.10//
CALSCALE:GREGORIAN
METHOD:PUBLISH
UID:759b432f-d891-4368-bd11-852bda79d313
X-WR-CALDESC:
X-WR-RELCALID:e67e96a3234191cb52d588b3a21317de
X-WR-TIMEZONE:America/Chicago
BEGIN:VTIMEZONE
TZID:America/Chicago
BEGIN:STANDARD
TZNAME:CST
DTSTART:20231105T020000
TZOFFSETFROM:-0500
TZOFFSETTO:-0600
RDATE:20241103T020000
END:STANDARD
BEGIN:DAYLIGHT
TZNAME:CDT
DTSTART:20230312T020000
TZOFFSETFROM:-0600
TZOFFSETTO:-0500
RDATE:20240310T020000
RDATE:20250309T020000
END:DAYLIGHT
END:VTIMEZONE
BEGIN:VEVENT
UID:8634db93-b2e1-4cab-8e90-e8ac0f9eaa27
DTSTAMP:20260424T034320Z
DESCRIPTION:
DTSTART;TZID=America/Chicago:20240302T190000
DTEND;TZID=America/Chicago:20240302T220000
LOCATION:
SUMMARY:Prom
END:VEVENT
END:VCALENDAR
