BEGIN:VCALENDAR
VERSION:2.0
PRODID:-//tandcschool.org//NONSGML kigkonsult.se iCalcreator 2.30.10//
CALSCALE:GREGORIAN
METHOD:PUBLISH
UID:b911e8f9-ee78-40c9-8639-f20d824add6c
X-WR-CALDESC:
X-WR-RELCALID:a855ee0eb3d76566cb97acad28a9ffb0
X-WR-TIMEZONE:America/Chicago
BEGIN:VTIMEZONE
TZID:America/Chicago
BEGIN:STANDARD
TZNAME:CST
DTSTART:20231105T020000
TZOFFSETFROM:-0500
TZOFFSETTO:-0600
RDATE:20241103T020000
END:STANDARD
BEGIN:DAYLIGHT
TZNAME:CDT
DTSTART:20230312T020000
TZOFFSETFROM:-0600
TZOFFSETTO:-0500
RDATE:20240310T020000
RDATE:20250309T020000
END:DAYLIGHT
END:VTIMEZONE
BEGIN:VEVENT
UID:96f425f6-7bbc-44bc-9f6e-a546bb9b19c0
DTSTAMP:20260424T035959Z
DESCRIPTION:
DTSTART;TZID=America/Chicago:20240302T180000
DTEND;TZID=America/Chicago:20240302T200000
LOCATION:
SUMMARY:MS Trivia/Basket Auction Night
END:VEVENT
END:VCALENDAR
