BEGIN:VCALENDAR
VERSION:2.0
PRODID:-//tandcschool.org//NONSGML kigkonsult.se iCalcreator 2.30.10//
CALSCALE:GREGORIAN
METHOD:PUBLISH
UID:baa2875b-7e99-488d-97c9-8041fe219fd8
X-WR-CALDESC:
X-WR-RELCALID:3b1b2ea65d56026d361fa1a13193bb4c
X-WR-TIMEZONE:America/Chicago
BEGIN:VTIMEZONE
TZID:America/Chicago
BEGIN:STANDARD
TZNAME:CST
DTSTART:20231105T020000
TZOFFSETFROM:-0500
TZOFFSETTO:-0600
RDATE:20241103T020000
END:STANDARD
BEGIN:DAYLIGHT
TZNAME:CDT
DTSTART:20230312T020000
TZOFFSETFROM:-0600
TZOFFSETTO:-0500
RDATE:20240310T020000
RDATE:20250309T020000
END:DAYLIGHT
END:VTIMEZONE
BEGIN:VEVENT
UID:c2ecbc4f-858d-42ed-8bdc-b86639ba9699
DTSTAMP:20260424T035622Z
DESCRIPTION:
DTSTART;TZID=America/Chicago:20240301T150000
DTEND;TZID=America/Chicago:20240301T153000
LOCATION:
SUMMARY:NHS Meeting
END:VEVENT
END:VCALENDAR
