BEGIN:VCALENDAR
VERSION:2.0
PRODID:-//tandcschool.org//NONSGML kigkonsult.se iCalcreator 2.30.10//
CALSCALE:GREGORIAN
METHOD:PUBLISH
UID:75ebefa8-0629-4fd9-9643-a753099a7920
X-WR-CALDESC:
X-WR-RELCALID:124295279db447b82115b3c238eb6454
X-WR-TIMEZONE:America/Chicago
BEGIN:VTIMEZONE
TZID:America/Chicago
BEGIN:STANDARD
TZNAME:CST
DTSTART:20231105T020000
TZOFFSETFROM:-0500
TZOFFSETTO:-0600
RDATE:20241103T020000
END:STANDARD
BEGIN:DAYLIGHT
TZNAME:CDT
DTSTART:20230312T020000
TZOFFSETFROM:-0600
TZOFFSETTO:-0500
RDATE:20240310T020000
RDATE:20250309T020000
END:DAYLIGHT
END:VTIMEZONE
BEGIN:VEVENT
UID:afa34a23-d2b1-4d30-8c7e-1016b7b0f57f
DTSTAMP:20260424T053133Z
DESCRIPTION:
DTSTART;TZID=America/Chicago:20240229T151500
DTEND;TZID=America/Chicago:20240229T160000
LOCATION:
SUMMARY:Band
END:VEVENT
END:VCALENDAR
