BEGIN:VCALENDAR
VERSION:2.0
PRODID:-//tandcschool.org//NONSGML kigkonsult.se iCalcreator 2.30.10//
CALSCALE:GREGORIAN
METHOD:PUBLISH
UID:9d3582b3-8588-4e40-afa4-1336abc9af16
X-WR-CALDESC:
X-WR-RELCALID:27cbb7200c5b32651cc2623a6fa1817f
X-WR-TIMEZONE:America/Chicago
BEGIN:VTIMEZONE
TZID:America/Chicago
BEGIN:STANDARD
TZNAME:CST
DTSTART:20231105T020000
TZOFFSETFROM:-0500
TZOFFSETTO:-0600
RDATE:20241103T020000
END:STANDARD
BEGIN:DAYLIGHT
TZNAME:CDT
DTSTART:20230312T020000
TZOFFSETFROM:-0600
TZOFFSETTO:-0500
RDATE:20240310T020000
RDATE:20250309T020000
END:DAYLIGHT
END:VTIMEZONE
BEGIN:VEVENT
UID:78dcab56-8c28-437d-a36c-dde806d41b6c
DTSTAMP:20260424T053539Z
DESCRIPTION:
DTSTART;TZID=America/Chicago:20240229T150000
DTEND;TZID=America/Chicago:20240229T160000
LOCATION:
SUMMARY:Crochet Club
END:VEVENT
END:VCALENDAR
