BEGIN:VCALENDAR
VERSION:2.0
PRODID:-//tandcschool.org//NONSGML kigkonsult.se iCalcreator 2.30.10//
CALSCALE:GREGORIAN
METHOD:PUBLISH
UID:ec16cbcb-4151-4667-b383-0da9fbfa131a
X-WR-CALDESC:
X-WR-RELCALID:da8051e327c34ef3bdf85b193fd818da
X-WR-TIMEZONE:America/Chicago
BEGIN:VTIMEZONE
TZID:America/Chicago
BEGIN:STANDARD
TZNAME:CST
DTSTART:20231105T020000
TZOFFSETFROM:-0500
TZOFFSETTO:-0600
RDATE:20241103T020000
END:STANDARD
BEGIN:DAYLIGHT
TZNAME:CDT
DTSTART:20230312T020000
TZOFFSETFROM:-0600
TZOFFSETTO:-0500
RDATE:20240310T020000
RDATE:20250309T020000
END:DAYLIGHT
END:VTIMEZONE
BEGIN:VEVENT
UID:37a83092-9809-4263-a17c-58698508742e
DTSTAMP:20260424T052927Z
DESCRIPTION:
DTSTART;TZID=America/Chicago:20240228T153000
DTEND;TZID=America/Chicago:20240228T164500
LOCATION:
SUMMARY:Cooking Class B
END:VEVENT
END:VCALENDAR
