BEGIN:VCALENDAR
VERSION:2.0
PRODID:-//tandcschool.org//NONSGML kigkonsult.se iCalcreator 2.30.10//
CALSCALE:GREGORIAN
METHOD:PUBLISH
UID:5c784c2c-9fb4-43df-8673-b728eb6dd805
X-WR-CALDESC:
X-WR-RELCALID:fbc586de5556dc4673fb1fea71d9b401
X-WR-TIMEZONE:America/Chicago
BEGIN:VTIMEZONE
TZID:America/Chicago
BEGIN:STANDARD
TZNAME:CST
DTSTART:20231105T020000
TZOFFSETFROM:-0500
TZOFFSETTO:-0600
RDATE:20241103T020000
END:STANDARD
BEGIN:DAYLIGHT
TZNAME:CDT
DTSTART:20230312T020000
TZOFFSETFROM:-0600
TZOFFSETTO:-0500
RDATE:20240310T020000
RDATE:20250309T020000
END:DAYLIGHT
END:VTIMEZONE
BEGIN:VEVENT
UID:11e9cdf8-0807-4240-a0c5-75387b4639f7
DTSTAMP:20260424T052834Z
DESCRIPTION:
DTSTART;TZID=America/Chicago:20240227T130000
DTEND;TZID=America/Chicago:20240227T160000
LOCATION:
SUMMARY:Transition Fair
END:VEVENT
END:VCALENDAR
