BEGIN:VCALENDAR
VERSION:2.0
PRODID:-//tandcschool.org//NONSGML kigkonsult.se iCalcreator 2.30.10//
CALSCALE:GREGORIAN
METHOD:PUBLISH
UID:bcf9b922-5bdf-4d18-879f-0763bac01f30
X-WR-CALDESC:
X-WR-RELCALID:c0034ab639eddf9a52f8e7bb28f80eb2
X-WR-TIMEZONE:America/Chicago
BEGIN:VTIMEZONE
TZID:America/Chicago
BEGIN:STANDARD
TZNAME:CST
DTSTART:20231105T020000
TZOFFSETFROM:-0500
TZOFFSETTO:-0600
RDATE:20241103T020000
END:STANDARD
BEGIN:DAYLIGHT
TZNAME:CDT
DTSTART:20230312T020000
TZOFFSETFROM:-0600
TZOFFSETTO:-0500
RDATE:20240310T020000
RDATE:20250309T020000
END:DAYLIGHT
END:VTIMEZONE
BEGIN:VEVENT
UID:c76a1475-c923-432e-aa91-5fed4a6ad1d6
DTSTAMP:20260424T053411Z
DESCRIPTION:
DTSTART;TZID=America/Chicago:20240227T152000
DTEND;TZID=America/Chicago:20240227T160000
LOCATION:
SUMMARY:LS Lego Club
END:VEVENT
END:VCALENDAR
