BEGIN:VCALENDAR
VERSION:2.0
PRODID:-//tandcschool.org//NONSGML kigkonsult.se iCalcreator 2.30.10//
CALSCALE:GREGORIAN
METHOD:PUBLISH
UID:e692aeb5-922b-42f1-9afc-28d264d804f9
X-WR-CALDESC:
X-WR-RELCALID:81492da78c6b808b0a81f734208681ec
X-WR-TIMEZONE:America/Chicago
BEGIN:VTIMEZONE
TZID:America/Chicago
BEGIN:STANDARD
TZNAME:CST
DTSTART:20231105T020000
TZOFFSETFROM:-0500
TZOFFSETTO:-0600
RDATE:20241103T020000
END:STANDARD
BEGIN:DAYLIGHT
TZNAME:CDT
DTSTART:20230312T020000
TZOFFSETFROM:-0600
TZOFFSETTO:-0500
RDATE:20240310T020000
RDATE:20250309T020000
END:DAYLIGHT
END:VTIMEZONE
BEGIN:VEVENT
UID:7e9d2f89-b298-4bfe-8644-d589a205d145
DTSTAMP:20260424T052337Z
DESCRIPTION:
DTSTART;TZID=America/Chicago:20240226T152000
DTEND;TZID=America/Chicago:20240226T160000
LOCATION:
SUMMARY:LS Art Club
END:VEVENT
END:VCALENDAR
