BEGIN:VCALENDAR
VERSION:2.0
PRODID:-//tandcschool.org//NONSGML kigkonsult.se iCalcreator 2.30.10//
CALSCALE:GREGORIAN
METHOD:PUBLISH
UID:aa65b0d7-c098-4e8f-99c3-a7d350ce5eee
X-WR-CALDESC:
X-WR-RELCALID:115bdd09566f365c216393e8d5a0ad50
X-WR-TIMEZONE:America/Chicago
BEGIN:VTIMEZONE
TZID:America/Chicago
BEGIN:STANDARD
TZNAME:CST
DTSTART:20231105T020000
TZOFFSETFROM:-0500
TZOFFSETTO:-0600
RDATE:20241103T020000
END:STANDARD
BEGIN:DAYLIGHT
TZNAME:CDT
DTSTART:20230312T020000
TZOFFSETFROM:-0600
TZOFFSETTO:-0500
RDATE:20240310T020000
RDATE:20250309T020000
END:DAYLIGHT
END:VTIMEZONE
BEGIN:VEVENT
UID:650bf0a9-44b5-4351-b743-552fc7344c8e
DTSTAMP:20260424T052017Z
DESCRIPTION:
DTSTART;TZID=America/Chicago:20240226T150000
DTEND;TZID=America/Chicago:20240226T154500
LOCATION:
SUMMARY:Chess Club
END:VEVENT
END:VCALENDAR
