BEGIN:VCALENDAR
VERSION:2.0
PRODID:-//tandcschool.org//NONSGML kigkonsult.se iCalcreator 2.30.10//
CALSCALE:GREGORIAN
METHOD:PUBLISH
UID:2d5aca9c-b4ff-4125-a0e1-b8bc11489940
X-WR-CALDESC:
X-WR-RELCALID:d61e80163a3a85e82880313bfa869163
X-WR-TIMEZONE:America/Chicago
BEGIN:VTIMEZONE
TZID:America/Chicago
BEGIN:STANDARD
TZNAME:CST
DTSTART:20231105T020000
TZOFFSETFROM:-0500
TZOFFSETTO:-0600
RDATE:20241103T020000
END:STANDARD
BEGIN:DAYLIGHT
TZNAME:CDT
DTSTART:20230312T020000
TZOFFSETFROM:-0600
TZOFFSETTO:-0500
RDATE:20240310T020000
RDATE:20250309T020000
END:DAYLIGHT
END:VTIMEZONE
BEGIN:VEVENT
UID:d7111f09-225c-43c6-8cd2-5cd617eb8b7a
DTSTAMP:20260424T051826Z
DESCRIPTION:
DTSTART;TZID=America/Chicago:20240226T150000
DTEND;TZID=America/Chicago:20240226T160000
LOCATION:
SUMMARY:Cheer
END:VEVENT
END:VCALENDAR
