BEGIN:VCALENDAR
VERSION:2.0
PRODID:-//tandcschool.org//NONSGML kigkonsult.se iCalcreator 2.30.10//
CALSCALE:GREGORIAN
METHOD:PUBLISH
UID:5287978f-df38-4c8a-8e07-b8488a672063
X-WR-CALDESC:
X-WR-RELCALID:45316140f8b8676c3d547817998bb190
X-WR-TIMEZONE:America/Chicago
BEGIN:VTIMEZONE
TZID:America/Chicago
BEGIN:STANDARD
TZNAME:CST
DTSTART:20231105T020000
TZOFFSETFROM:-0500
TZOFFSETTO:-0600
RDATE:20241103T020000
END:STANDARD
BEGIN:DAYLIGHT
TZNAME:CDT
DTSTART:20230312T020000
TZOFFSETFROM:-0600
TZOFFSETTO:-0500
RDATE:20240310T020000
RDATE:20250309T020000
END:DAYLIGHT
END:VTIMEZONE
BEGIN:VEVENT
UID:c8aa04ed-53b7-413d-8c6e-45d821bff6cc
DTSTAMP:20260424T052915Z
DESCRIPTION:
DTSTART;TZID=America/Chicago:20240226T150000
DTEND;TZID=America/Chicago:20240226T154500
LOCATION:
SUMMARY:Bible Club
END:VEVENT
END:VCALENDAR
