BEGIN:VCALENDAR
VERSION:2.0
PRODID:-//tandcschool.org//NONSGML kigkonsult.se iCalcreator 2.30.10//
CALSCALE:GREGORIAN
METHOD:PUBLISH
UID:40693298-e7df-4fd3-af30-75ac1dae4cf4
X-WR-CALDESC:
X-WR-RELCALID:1100caf4b1074bb6e03ba5046023011a
X-WR-TIMEZONE:America/Chicago
BEGIN:VTIMEZONE
TZID:America/Chicago
BEGIN:STANDARD
TZNAME:CST
DTSTART:20231105T020000
TZOFFSETFROM:-0500
TZOFFSETTO:-0600
RDATE:20241103T020000
END:STANDARD
BEGIN:DAYLIGHT
TZNAME:CDT
DTSTART:20230312T020000
TZOFFSETFROM:-0600
TZOFFSETTO:-0500
RDATE:20240310T020000
RDATE:20250309T020000
END:DAYLIGHT
END:VTIMEZONE
BEGIN:VEVENT
UID:c632f229-f026-40e1-8c75-7f4fbbb4dafe
DTSTAMP:20260424T053200Z
DESCRIPTION:
DTSTART;TZID=America/Chicago:20240224T050000
DTEND;TZID=America/Chicago:20240224T050001
LOCATION:
SUMMARY:Bowling Regionals
END:VEVENT
END:VCALENDAR
