BEGIN:VCALENDAR
VERSION:2.0
PRODID:-//tandcschool.org//NONSGML kigkonsult.se iCalcreator 2.30.10//
CALSCALE:GREGORIAN
METHOD:PUBLISH
UID:046e1496-6302-432a-b540-9cb7005b7a3c
X-WR-CALDESC:
X-WR-RELCALID:c5419580a9b7dcc0b315798f2e1a84d0
X-WR-TIMEZONE:America/Chicago
BEGIN:VTIMEZONE
TZID:America/Chicago
BEGIN:STANDARD
TZNAME:CST
DTSTART:20231105T020000
TZOFFSETFROM:-0500
TZOFFSETTO:-0600
RDATE:20241103T020000
END:STANDARD
BEGIN:DAYLIGHT
TZNAME:CDT
DTSTART:20230312T020000
TZOFFSETFROM:-0600
TZOFFSETTO:-0500
RDATE:20240310T020000
RDATE:20250309T020000
END:DAYLIGHT
END:VTIMEZONE
BEGIN:VEVENT
UID:861259d2-8bb6-4bc2-b8dd-a5313a4e885c
DTSTAMP:20260424T053847Z
DESCRIPTION:
DTSTART;TZID=America/Chicago:20240223T150000
DTEND;TZID=America/Chicago:20240223T154500
LOCATION:
SUMMARY:US Astronomy Club
END:VEVENT
END:VCALENDAR
