BEGIN:VCALENDAR
VERSION:2.0
PRODID:-//tandcschool.org//NONSGML kigkonsult.se iCalcreator 2.30.10//
CALSCALE:GREGORIAN
METHOD:PUBLISH
UID:1e1935f8-a99a-48a1-ae45-878133f18561
X-WR-CALDESC:
X-WR-RELCALID:6feca45f543fbd21e75e275d71af5039
X-WR-TIMEZONE:America/Chicago
BEGIN:VTIMEZONE
TZID:America/Chicago
BEGIN:STANDARD
TZNAME:CST
DTSTART:20231105T020000
TZOFFSETFROM:-0500
TZOFFSETTO:-0600
RDATE:20241103T020000
END:STANDARD
BEGIN:DAYLIGHT
TZNAME:CDT
DTSTART:20230312T020000
TZOFFSETFROM:-0600
TZOFFSETTO:-0500
RDATE:20240310T020000
RDATE:20250309T020000
END:DAYLIGHT
END:VTIMEZONE
BEGIN:VEVENT
UID:48ae8693-ebf7-4321-888b-b77221775fbc
DTSTAMP:20260424T053201Z
DESCRIPTION:
DTSTART;TZID=America/Chicago:20240222T151500
DTEND;TZID=America/Chicago:20240222T160000
LOCATION:
SUMMARY:Band
END:VEVENT
END:VCALENDAR
