BEGIN:VCALENDAR
VERSION:2.0
PRODID:-//tandcschool.org//NONSGML kigkonsult.se iCalcreator 2.30.10//
CALSCALE:GREGORIAN
METHOD:PUBLISH
UID:ab1c97f8-e486-416b-a496-456245fbe2cb
X-WR-CALDESC:
X-WR-RELCALID:e4ac7c7b5ce92d6eef906e50b1b9dd62
X-WR-TIMEZONE:America/Chicago
BEGIN:VTIMEZONE
TZID:America/Chicago
BEGIN:STANDARD
TZNAME:CST
DTSTART:20231105T020000
TZOFFSETFROM:-0500
TZOFFSETTO:-0600
RDATE:20241103T020000
END:STANDARD
BEGIN:DAYLIGHT
TZNAME:CDT
DTSTART:20230312T020000
TZOFFSETFROM:-0600
TZOFFSETTO:-0500
RDATE:20240310T020000
RDATE:20250309T020000
END:DAYLIGHT
END:VTIMEZONE
BEGIN:VEVENT
UID:e4fbf2f2-b908-4241-aab8-335dc2f28fa6
DTSTAMP:20260424T051113Z
DESCRIPTION:
DTSTART;TZID=America/Chicago:20240221T150000
DTEND;TZID=America/Chicago:20240221T154500
LOCATION:
SUMMARY:MS Art Club
END:VEVENT
END:VCALENDAR
