BEGIN:VCALENDAR
VERSION:2.0
PRODID:-//tandcschool.org//NONSGML kigkonsult.se iCalcreator 2.30.10//
CALSCALE:GREGORIAN
METHOD:PUBLISH
UID:70b1517e-9b55-47cf-b50d-ea7529a932c6
X-WR-CALDESC:
X-WR-RELCALID:a06d3150e93dd0d3ec3782e6aecfee5b
X-WR-TIMEZONE:America/Chicago
BEGIN:VTIMEZONE
TZID:America/Chicago
BEGIN:STANDARD
TZNAME:CST
DTSTART:20231105T020000
TZOFFSETFROM:-0500
TZOFFSETTO:-0600
RDATE:20241103T020000
END:STANDARD
BEGIN:DAYLIGHT
TZNAME:CDT
DTSTART:20230312T020000
TZOFFSETFROM:-0600
TZOFFSETTO:-0500
RDATE:20240310T020000
RDATE:20250309T020000
END:DAYLIGHT
END:VTIMEZONE
BEGIN:VEVENT
UID:70244af0-1c4b-429c-a8c9-6be91a5e8af9
DTSTAMP:20260424T053620Z
DESCRIPTION:
DTSTART;TZID=America/Chicago:20240220T152000
DTEND;TZID=America/Chicago:20240220T160000
LOCATION:
SUMMARY:LS Lego Club
END:VEVENT
END:VCALENDAR
