BEGIN:VCALENDAR
VERSION:2.0
PRODID:-//tandcschool.org//NONSGML kigkonsult.se iCalcreator 2.30.10//
CALSCALE:GREGORIAN
METHOD:PUBLISH
UID:a6a79cb7-cf70-4464-bf52-1b31a553a72f
X-WR-CALDESC:
X-WR-RELCALID:4958e09edeaea9df6ccf951bf3b1d6d8
X-WR-TIMEZONE:America/Chicago
BEGIN:VTIMEZONE
TZID:America/Chicago
BEGIN:STANDARD
TZNAME:CST
DTSTART:20231105T020000
TZOFFSETFROM:-0500
TZOFFSETTO:-0600
RDATE:20241103T020000
END:STANDARD
BEGIN:DAYLIGHT
TZNAME:CDT
DTSTART:20230312T020000
TZOFFSETFROM:-0600
TZOFFSETTO:-0500
RDATE:20240310T020000
RDATE:20250309T020000
END:DAYLIGHT
END:VTIMEZONE
BEGIN:VEVENT
UID:e1959236-31b4-4f48-be58-ab5cff4cd6b3
DTSTAMP:20260424T051613Z
DESCRIPTION:
DTSTART;TZID=America/Chicago:20240219T050000
DTEND;TZID=America/Chicago:20240219T050001
LOCATION:
SUMMARY:Second Trimester Ends
END:VEVENT
END:VCALENDAR
