BEGIN:VCALENDAR
VERSION:2.0
PRODID:-//tandcschool.org//NONSGML kigkonsult.se iCalcreator 2.30.10//
CALSCALE:GREGORIAN
METHOD:PUBLISH
UID:f2949c05-3e67-4605-a4b7-15c48a50a07c
X-WR-CALDESC:No School
X-WR-RELCALID:d9a4efd3e3a3402bf1a7b1ad3f8d91dd
X-WR-TIMEZONE:America/Chicago
BEGIN:VTIMEZONE
TZID:America/Chicago
BEGIN:STANDARD
TZNAME:CST
DTSTART:20231105T020000
TZOFFSETFROM:-0500
TZOFFSETTO:-0600
RDATE:20241103T020000
END:STANDARD
BEGIN:DAYLIGHT
TZNAME:CDT
DTSTART:20230312T020000
TZOFFSETFROM:-0600
TZOFFSETTO:-0500
RDATE:20240310T020000
RDATE:20250309T020000
END:DAYLIGHT
END:VTIMEZONE
BEGIN:VEVENT
UID:642fca1d-46d3-470a-bbd5-f00bc1c62edd
DTSTAMP:20260424T051206Z
DESCRIPTION:No School
DTSTART;TZID=America/Chicago:20240219T000000
DTEND;TZID=America/Chicago:20240219T235900
LOCATION:
SUMMARY:President's Day
END:VEVENT
END:VCALENDAR
