BEGIN:VCALENDAR
VERSION:2.0
PRODID:-//tandcschool.org//NONSGML kigkonsult.se iCalcreator 2.30.10//
CALSCALE:GREGORIAN
METHOD:PUBLISH
UID:c1438d02-f6f9-45f0-9e4c-41ca0a3d4f5f
X-WR-CALDESC:
X-WR-RELCALID:68c463006fe3d3199b9fca2d9398a6d0
X-WR-TIMEZONE:America/Chicago
BEGIN:VTIMEZONE
TZID:America/Chicago
BEGIN:STANDARD
TZNAME:CST
DTSTART:20231105T020000
TZOFFSETFROM:-0500
TZOFFSETTO:-0600
RDATE:20241103T020000
END:STANDARD
BEGIN:DAYLIGHT
TZNAME:CDT
DTSTART:20230312T020000
TZOFFSETFROM:-0600
TZOFFSETTO:-0500
RDATE:20240310T020000
RDATE:20250309T020000
END:DAYLIGHT
END:VTIMEZONE
BEGIN:VEVENT
UID:e59fe8a0-e73d-4869-8af6-35d477ba7351
DTSTAMP:20260424T053440Z
DESCRIPTION:
DTSTART;TZID=America/Chicago:20240217T050000
DTEND;TZID=America/Chicago:20240217T050001
LOCATION:
SUMMARY:Bowling Regionals
END:VEVENT
END:VCALENDAR
