BEGIN:VCALENDAR
VERSION:2.0
PRODID:-//tandcschool.org//NONSGML kigkonsult.se iCalcreator 2.30.10//
CALSCALE:GREGORIAN
METHOD:PUBLISH
UID:373989f1-f979-4cb5-8184-bc344f54ec5a
X-WR-CALDESC:
X-WR-RELCALID:3a25411a5cf09d87b5910c4f229b3979
X-WR-TIMEZONE:America/Chicago
BEGIN:VTIMEZONE
TZID:America/Chicago
BEGIN:STANDARD
TZNAME:CST
DTSTART:20231105T020000
TZOFFSETFROM:-0500
TZOFFSETTO:-0600
RDATE:20241103T020000
END:STANDARD
BEGIN:DAYLIGHT
TZNAME:CDT
DTSTART:20230312T020000
TZOFFSETFROM:-0600
TZOFFSETTO:-0500
RDATE:20240310T020000
RDATE:20250309T020000
END:DAYLIGHT
END:VTIMEZONE
BEGIN:VEVENT
UID:82b6abdf-c6e5-4af9-b51a-b3344c84ef26
DTSTAMP:20260424T051954Z
DESCRIPTION:
DTSTART;TZID=America/Chicago:20240216T150000
DTEND;TZID=America/Chicago:20240216T153000
LOCATION:
SUMMARY:NHS Meeting
END:VEVENT
END:VCALENDAR
