BEGIN:VCALENDAR
VERSION:2.0
PRODID:-//tandcschool.org//NONSGML kigkonsult.se iCalcreator 2.30.10//
CALSCALE:GREGORIAN
METHOD:PUBLISH
UID:0051439a-a8fa-476c-b19d-0081bd52848f
X-WR-CALDESC:
X-WR-RELCALID:ca61ebc8a768948b8d8bb788686e7c66
X-WR-TIMEZONE:America/Chicago
BEGIN:VTIMEZONE
TZID:America/Chicago
BEGIN:STANDARD
TZNAME:CST
DTSTART:20231105T020000
TZOFFSETFROM:-0500
TZOFFSETTO:-0600
RDATE:20241103T020000
END:STANDARD
BEGIN:DAYLIGHT
TZNAME:CDT
DTSTART:20230312T020000
TZOFFSETFROM:-0600
TZOFFSETTO:-0500
RDATE:20240310T020000
RDATE:20250309T020000
END:DAYLIGHT
END:VTIMEZONE
BEGIN:VEVENT
UID:9e865869-f127-477c-94b1-510e553b4896
DTSTAMP:20260424T052513Z
DESCRIPTION:
DTSTART;TZID=America/Chicago:20240215T151500
DTEND;TZID=America/Chicago:20240215T160000
LOCATION:
SUMMARY:Band
END:VEVENT
END:VCALENDAR
