BEGIN:VCALENDAR
VERSION:2.0
PRODID:-//tandcschool.org//NONSGML kigkonsult.se iCalcreator 2.30.10//
CALSCALE:GREGORIAN
METHOD:PUBLISH
UID:05f079c9-f0e2-4e17-be47-1bdcb66361e3
X-WR-CALDESC:
X-WR-RELCALID:cc5d1a59a9c9fcfbf6658cdc042a9f9e
X-WR-TIMEZONE:America/Chicago
BEGIN:VTIMEZONE
TZID:America/Chicago
BEGIN:STANDARD
TZNAME:CST
DTSTART:20231105T020000
TZOFFSETFROM:-0500
TZOFFSETTO:-0600
RDATE:20241103T020000
END:STANDARD
BEGIN:DAYLIGHT
TZNAME:CDT
DTSTART:20230312T020000
TZOFFSETFROM:-0600
TZOFFSETTO:-0500
RDATE:20240310T020000
RDATE:20250309T020000
END:DAYLIGHT
END:VTIMEZONE
BEGIN:VEVENT
UID:6dec6083-90ca-4620-868a-7d674f109808
DTSTAMP:20260424T053729Z
DESCRIPTION:
DTSTART;TZID=America/Chicago:20240215T150000
DTEND;TZID=America/Chicago:20240215T160000
LOCATION:
SUMMARY:Crochet Club
END:VEVENT
END:VCALENDAR
